BEGIN:VCALENDAR
VERSION:2.0
PRODID:-//Desert Willow Golf Resort - ECPv6.15.18//NONSGML v1.0//EN
CALSCALE:GREGORIAN
METHOD:PUBLISH
X-ORIGINAL-URL:https://www.desertwillow.com
X-WR-CALDESC:Events for Desert Willow Golf Resort
REFRESH-INTERVAL;VALUE=DURATION:PT1H
X-Robots-Tag:noindex
X-PUBLISHED-TTL:PT1H
BEGIN:VTIMEZONE
TZID:America/Los_Angeles
BEGIN:DAYLIGHT
TZOFFSETFROM:-0800
TZOFFSETTO:-0700
TZNAME:PDT
DTSTART:20230312T100000
END:DAYLIGHT
BEGIN:STANDARD
TZOFFSETFROM:-0700
TZOFFSETTO:-0800
TZNAME:PST
DTSTART:20231105T090000
END:STANDARD
BEGIN:DAYLIGHT
TZOFFSETFROM:-0800
TZOFFSETTO:-0700
TZNAME:PDT
DTSTART:20240310T100000
END:DAYLIGHT
BEGIN:STANDARD
TZOFFSETFROM:-0700
TZOFFSETTO:-0800
TZNAME:PST
DTSTART:20241103T090000
END:STANDARD
BEGIN:DAYLIGHT
TZOFFSETFROM:-0800
TZOFFSETTO:-0700
TZNAME:PDT
DTSTART:20250309T100000
END:DAYLIGHT
BEGIN:STANDARD
TZOFFSETFROM:-0700
TZOFFSETTO:-0800
TZNAME:PST
DTSTART:20251102T090000
END:STANDARD
END:VTIMEZONE
BEGIN:VEVENT
DTSTART;TZID=America/Los_Angeles:20241210T090000
DTEND;TZID=America/Los_Angeles:20241210T150000
DTSTAMP:20260420T205426
CREATED:20241029T175942Z
LAST-MODIFIED:20241029T180204Z
UID:10000320-1733821200-1733842800@www.desertwillow.com
SUMMARY:Titleist Tuesdays: Exclusive Club Fitting Experience
DESCRIPTION:Elevate your game with a professional fitting from Titleist at the Palm Desert Golf Academy! Join Titleist Club Fitting Professional Cameron Buckley for a personalized fitting experience that will match you with the perfect equipment to enhance your performance. Each fitting is tailored to your playing style and focuses on optimizing elements that impact your game. \nTime:\n9 AM to 3 PM \nLocation:\nPalm Desert Golf Academy at Desert Willow Golf Resort \nFee:\n$100\, applied to any same-day equipment purchases. \nNote:\nAppointments are limited and held on the hour to ensure each golfer receives dedicated one-on-one attention. Reserve your fitting time and get ready to experience the difference that custom-fit equipment can make! \nCLICK HERE To Book Your Titleist Fitting!
URL:https://www.desertwillow.com/event/titleist-tuesdays-exclusive-club-fitting-experience/2024-12-10/
LOCATION:The Palm Desert Golf Academy\, 38-500 Portola Avenue\, Palm Desert\, CA\, 92260\, United States
CATEGORIES:Fitting Days,Palm Desert Golf Academy
ATTACH;FMTTYPE=image/jpeg:https://www.desertwillow.com/wp-content/uploads/sites/9291/2024/10/Image_TitleistTuesdays_ImproveYourGame.jpg
END:VEVENT
BEGIN:VEVENT
DTSTART;TZID=America/Los_Angeles:20241203T090000
DTEND;TZID=America/Los_Angeles:20241203T150000
DTSTAMP:20260420T205426
CREATED:20241029T175942Z
LAST-MODIFIED:20241029T180204Z
UID:10000319-1733216400-1733238000@www.desertwillow.com
SUMMARY:Titleist Tuesdays: Exclusive Club Fitting Experience
DESCRIPTION:Elevate your game with a professional fitting from Titleist at the Palm Desert Golf Academy! Join Titleist Club Fitting Professional Cameron Buckley for a personalized fitting experience that will match you with the perfect equipment to enhance your performance. Each fitting is tailored to your playing style and focuses on optimizing elements that impact your game. \nTime:\n9 AM to 3 PM \nLocation:\nPalm Desert Golf Academy at Desert Willow Golf Resort \nFee:\n$100\, applied to any same-day equipment purchases. \nNote:\nAppointments are limited and held on the hour to ensure each golfer receives dedicated one-on-one attention. Reserve your fitting time and get ready to experience the difference that custom-fit equipment can make! \nCLICK HERE To Book Your Titleist Fitting!
URL:https://www.desertwillow.com/event/titleist-tuesdays-exclusive-club-fitting-experience/2024-12-03/
LOCATION:The Palm Desert Golf Academy\, 38-500 Portola Avenue\, Palm Desert\, CA\, 92260\, United States
CATEGORIES:Fitting Days,Palm Desert Golf Academy
ATTACH;FMTTYPE=image/jpeg:https://www.desertwillow.com/wp-content/uploads/sites/9291/2024/10/Image_TitleistTuesdays_ImproveYourGame.jpg
END:VEVENT
BEGIN:VEVENT
DTSTART;TZID=America/Los_Angeles:20241126T090000
DTEND;TZID=America/Los_Angeles:20241126T150000
DTSTAMP:20260420T205426
CREATED:20241029T175942Z
LAST-MODIFIED:20241029T180204Z
UID:10000318-1732611600-1732633200@www.desertwillow.com
SUMMARY:Titleist Tuesdays: Exclusive Club Fitting Experience
DESCRIPTION:Elevate your game with a professional fitting from Titleist at the Palm Desert Golf Academy! Join Titleist Club Fitting Professional Cameron Buckley for a personalized fitting experience that will match you with the perfect equipment to enhance your performance. Each fitting is tailored to your playing style and focuses on optimizing elements that impact your game. \nTime:\n9 AM to 3 PM \nLocation:\nPalm Desert Golf Academy at Desert Willow Golf Resort \nFee:\n$100\, applied to any same-day equipment purchases. \nNote:\nAppointments are limited and held on the hour to ensure each golfer receives dedicated one-on-one attention. Reserve your fitting time and get ready to experience the difference that custom-fit equipment can make! \nCLICK HERE To Book Your Titleist Fitting!
URL:https://www.desertwillow.com/event/titleist-tuesdays-exclusive-club-fitting-experience/2024-11-26/
LOCATION:The Palm Desert Golf Academy\, 38-500 Portola Avenue\, Palm Desert\, CA\, 92260\, United States
CATEGORIES:Fitting Days,Palm Desert Golf Academy
ATTACH;FMTTYPE=image/jpeg:https://www.desertwillow.com/wp-content/uploads/sites/9291/2024/10/Image_TitleistTuesdays_ImproveYourGame.jpg
END:VEVENT
BEGIN:VEVENT
DTSTART;TZID=America/Los_Angeles:20241119T090000
DTEND;TZID=America/Los_Angeles:20241119T150000
DTSTAMP:20260420T205426
CREATED:20241029T175942Z
LAST-MODIFIED:20241029T180204Z
UID:10000317-1732006800-1732028400@www.desertwillow.com
SUMMARY:Titleist Tuesdays: Exclusive Club Fitting Experience
DESCRIPTION:Elevate your game with a professional fitting from Titleist at the Palm Desert Golf Academy! Join Titleist Club Fitting Professional Cameron Buckley for a personalized fitting experience that will match you with the perfect equipment to enhance your performance. Each fitting is tailored to your playing style and focuses on optimizing elements that impact your game. \nTime:\n9 AM to 3 PM \nLocation:\nPalm Desert Golf Academy at Desert Willow Golf Resort \nFee:\n$100\, applied to any same-day equipment purchases. \nNote:\nAppointments are limited and held on the hour to ensure each golfer receives dedicated one-on-one attention. Reserve your fitting time and get ready to experience the difference that custom-fit equipment can make! \nCLICK HERE To Book Your Titleist Fitting!
URL:https://www.desertwillow.com/event/titleist-tuesdays-exclusive-club-fitting-experience/2024-11-19/
LOCATION:The Palm Desert Golf Academy\, 38-500 Portola Avenue\, Palm Desert\, CA\, 92260\, United States
CATEGORIES:Fitting Days,Palm Desert Golf Academy
ATTACH;FMTTYPE=image/jpeg:https://www.desertwillow.com/wp-content/uploads/sites/9291/2024/10/Image_TitleistTuesdays_ImproveYourGame.jpg
END:VEVENT
BEGIN:VEVENT
DTSTART;TZID=America/Los_Angeles:20241112T090000
DTEND;TZID=America/Los_Angeles:20241112T150000
DTSTAMP:20260420T205426
CREATED:20241029T175942Z
LAST-MODIFIED:20241029T180204Z
UID:10000316-1731402000-1731423600@www.desertwillow.com
SUMMARY:Titleist Tuesdays: Exclusive Club Fitting Experience
DESCRIPTION:Elevate your game with a professional fitting from Titleist at the Palm Desert Golf Academy! Join Titleist Club Fitting Professional Cameron Buckley for a personalized fitting experience that will match you with the perfect equipment to enhance your performance. Each fitting is tailored to your playing style and focuses on optimizing elements that impact your game. \nTime:\n9 AM to 3 PM \nLocation:\nPalm Desert Golf Academy at Desert Willow Golf Resort \nFee:\n$100\, applied to any same-day equipment purchases. \nNote:\nAppointments are limited and held on the hour to ensure each golfer receives dedicated one-on-one attention. Reserve your fitting time and get ready to experience the difference that custom-fit equipment can make! \nCLICK HERE To Book Your Titleist Fitting!
URL:https://www.desertwillow.com/event/titleist-tuesdays-exclusive-club-fitting-experience/2024-11-12/
LOCATION:The Palm Desert Golf Academy\, 38-500 Portola Avenue\, Palm Desert\, CA\, 92260\, United States
CATEGORIES:Fitting Days,Palm Desert Golf Academy
ATTACH;FMTTYPE=image/jpeg:https://www.desertwillow.com/wp-content/uploads/sites/9291/2024/10/Image_TitleistTuesdays_ImproveYourGame.jpg
END:VEVENT
END:VCALENDAR